BEGIN:VCALENDAR
VERSION:2.0
PRODID:Tertúlia da Malha da UFAV
X-WR-CALNAME:Tertúlia da Malha da UFAV
X-WR-TIMEZONE:Europe/Lisbon
X-PUBLISHED-TTL:P1W
BEGIN:VTIMEZONE
TZID:Europe/Lisbon
X-LIC-LOCATION:Europe/Lisbon
END:VTIMEZONE
BEGIN:VEVENT
UID:69e88fdab8235
DTSTART;VALUE=DATE:20250626
SEQUENCE:0
TRANSP:OPAQUE
DTEND;VALUE=DATE:20250627
SUMMARY:Tertúlia da Malha da UFAV
CLASS:PUBLIC
DESCRIPTION:A nossa árvore foi decorada com muito carinho pela Tertúlia d
 a Malha da UFAV\, que a vestiu a rigor para receber os Santos Populares! 
 Com a ajuda da comunidade\, que respondeu ao nosso apelo através do proje
 to EcoGerações\, reutilizámos CD‘s e demos-lhes nova vida nesta decor
 ação criativa\, colorida e cheia de espírito festivo. Obrigada a todos
  os que contribuíram! Juntos mostramos que tradição e sustentabilidade 
 podem (e devem!) andar de mãos dadas.
X-MICROSOFT-CDO-ALLDAYEVENT:TRUE
DTSTAMP:20260422T090738Z
END:VEVENT
END:VCALENDAR